BEGIN:VCALENDAR
VERSION:2.0
PRODID:-//Chatswood Public School P&amp;C - ECPv4.7.2//NONSGML v1.0//EN
CALSCALE:GREGORIAN
METHOD:PUBLISH
X-WR-CALNAME:Chatswood Public School P&amp;C
X-ORIGINAL-URL:https://chatswoodpublicpandc.org.au
X-WR-CALDESC:Events for Chatswood Public School P&amp;C
BEGIN:VEVENT
DTSTART;TZID=UTC+11:20190625T193000
DTEND;TZID=UTC+11:20190625T210000
DTSTAMP:20190301T105153
CREATED:20190204T045219Z
LAST-MODIFIED:20190204T114520Z
UID:17837-1561491000-1561496400@chatswoodpublicpandc.org.au
SUMMARY:P & C meeting
DESCRIPTION:
URL:https://chatswoodpublicpandc.org.au/event/p-c-meeting/2019-06-25/
LOCATION:Chatswood Public School Staff Room\, NSW\, Australia
GEO:-31.2532183;146.921099
CATEGORIES:P & C Meetings
END:VEVENT
END:VCALENDAR